BEGIN:VCALENDAR
VERSION:2.0
PRODID:-//Parker County Republican Party - ECPv6.15.20//NONSGML v1.0//EN
CALSCALE:GREGORIAN
METHOD:PUBLISH
X-WR-CALNAME:Parker County Republican Party
X-ORIGINAL-URL:https://parkercountygop.com
X-WR-CALDESC:Events for Parker County Republican Party
REFRESH-INTERVAL;VALUE=DURATION:PT1H
X-Robots-Tag:noindex
X-PUBLISHED-TTL:PT1H
BEGIN:VTIMEZONE
TZID:UTC
BEGIN:STANDARD
TZOFFSETFROM:+0000
TZOFFSETTO:+0000
TZNAME:UTC
DTSTART:20230101T000000
END:STANDARD
END:VTIMEZONE
BEGIN:VEVENT
DTSTART;TZID=UTC:20240503T190000
DTEND;TZID=UTC:20240503T220000
DTSTAMP:20260422T022950
CREATED:20240405T215749Z
LAST-MODIFIED:20240405T215749Z
UID:340-1714762800-1714773600@parkercountygop.com
SUMMARY:Reagan Day Dinner 2024
DESCRIPTION:Join us May 3\, 2024 at 7:00p for an evening benefitting the Parker County Republican Party\, featuring keynote from U.S. Senator Ted Cruz! \nThis will be a wonderful evening with dinner catered by Tailgaters BBQ. Tickets are going fast\, so get yours today HERE.
URL:https://parkercountygop.com/event/reagan-day-dinner-2024/
LOCATION:Parker County Sheriff’s Posse Event Center\, 2251 Mineral Wells Hwy\, Weatherford\, TX\, 76088\, United States
ATTACH;FMTTYPE=image/jpeg:https://parkercountygop.com/wp-content/uploads/2024/04/Reagan-Day-2024-AD-1-scaled.jpg
END:VEVENT
BEGIN:VEVENT
DTSTART;TZID=UTC:20240404T190000
DTEND;TZID=UTC:20240404T200000
DTSTAMP:20260422T022950
CREATED:20240326T035510Z
LAST-MODIFIED:20240326T035510Z
UID:327-1712257200-1712260800@parkercountygop.com
SUMMARY:April 4\, 2024 PCRP Regular Meeting
DESCRIPTION:The monthly meeting of the Parker County Republican Party will be Thursday\, April 4\, 2024 at 7:00p in the Weatherford College\, Strain Community Room.
URL:https://parkercountygop.com/event/april-4-2024-pcrp-regular-meeting/
LOCATION:Weatherford College\, Strain Community Room\, 225 College Park Drive\, Weatherford\, 76086\, United States
ORGANIZER;CN="Brady Gray":MAILTO:bgray@parkercountygop.com
END:VEVENT
END:VCALENDAR