BEGIN:VCALENDAR
VERSION:2.0
PRODID:-//Parker County Republican Party - ECPv6.15.20//NONSGML v1.0//EN
CALSCALE:GREGORIAN
METHOD:PUBLISH
X-WR-CALNAME:Parker County Republican Party
X-ORIGINAL-URL:https://parkercountygop.com
X-WR-CALDESC:Events for Parker County Republican Party
REFRESH-INTERVAL;VALUE=DURATION:PT1H
X-Robots-Tag:noindex
X-PUBLISHED-TTL:PT1H
BEGIN:VTIMEZONE
TZID:UTC
BEGIN:STANDARD
TZOFFSETFROM:+0000
TZOFFSETTO:+0000
TZNAME:UTC
DTSTART:20250101T000000
END:STANDARD
END:VTIMEZONE
BEGIN:VEVENT
DTSTART;TZID=UTC:20260205T190000
DTEND;TZID=UTC:20260205T210000
DTSTAMP:20260421T172316
CREATED:20260109T041652Z
LAST-MODIFIED:20260109T041652Z
UID:1020-1770318000-1770325200@parkercountygop.com
SUMMARY:Reagan Day 2026
DESCRIPTION:The Parker County Republican Party invites you to join us for the 2026 Reagan Day Dinner on Thursday\, February 5\, 2026 at 7:00 pm at The Springs in Weatherford. This annual gathering brings together conservatives from across Parker County to celebrate the principles of limited government\, individual liberty\, and strong communities that continue to define the Republican Party. \nThe evening’s program will feature a fireside chat with Congressman Craig Goldman\, Senator Phil King\, Senator Brent Hagenbuch\, and Representative Mike Olcott. Our discussion will focus on the issues most important to Parker County\, including local priorities\, legislative developments\, and the path forward for our county\, our state\, and our nation. \nWe look forward to an evening of thoughtful conversation\, fellowship\, and renewed commitment to the conservative values that make Parker County strong.
URL:https://parkercountygop.com/event/reagan-day-2026/
LOCATION:The Springs – Weatherford\, 454 Thompson Road\, Weatherford\, TX\, 76087\, United States
END:VEVENT
END:VCALENDAR